BEGIN:VCALENDAR
VERSION:2.0
PRODID:-//Опішнянський державний художній ліцей імені Василя Кричевського - ECPv5.11.0//NONSGML v1.0//EN
CALSCALE:GREGORIAN
METHOD:PUBLISH
X-WR-CALNAME:Опішнянський державний художній ліцей імені Василя Кричевського
X-ORIGINAL-URL:https://www.collegium-opishnya.com.ua
X-WR-CALDESC:Events for Опішнянський державний художній ліцей імені Василя Кричевського
BEGIN:VTIMEZONE
TZID:UTC
BEGIN:STANDARD
TZOFFSETFROM:+0000
TZOFFSETTO:+0000
TZNAME:UTC
DTSTART:20200101T000000
END:STANDARD
END:VTIMEZONE
BEGIN:VEVENT
DTSTART;TZID=UTC:20201124T103555
DTEND;TZID=UTC:20190110T170000
DTSTAMP:20260423T110836
CREATED:20160329T074349Z
LAST-MODIFIED:20160329T074349Z
UID:98-1606214155-1547139600@www.collegium-opishnya.com.ua
SUMMARY:Spring Choir Concert & School Art Show
DESCRIPTION:Vocal and instrumental music students make up McAuley’s Choir\, Vocal Ensemble\, Show Choir (with young men from LaSalle)\, and Orchestra. Each year McAuley drama performs one play in the fall\, one in the winter\, and one musical in the spring. Students enrolled in visual arts classes are frequently selected to exhibit their artwork in local venues.
URL:https://www.collegium-opishnya.com.ua/event/spring-choir-concert-school-art-show/
LOCATION:Home Default
ATTACH;FMTTYPE=image/png:https://www.collegium-opishnya.com.ua/wp-content/uploads/2016/03/slider3.png
END:VEVENT
END:VCALENDAR